BEGIN:VCALENDAR
VERSION:2.0
PRODID:-//mWEB//NONSGML mWEB//NB
URL:https://www.auremisjonshus.no/kalender/ics
X-WR-CALNAME:Aure Misjonshus
REFRESH-INTERVAL;VALUE=DURATION:PT6H
X-PUBLISHED-TTL:PT6H    
CALSCALE:GREGORIAN
BEGIN:VEVENT
UID:auremisjonshus.no-1141
DTSTAMP:20260421T093856Z
DTSTART:20240111T150000Z
DTEND:20240111T163000Z
URL:https://www.auremisjonshus.no/kalender/2024/01/11/eldres-hyggestund/1141/
CREATED:20240104T085113Z
LAST-MODIFIED:20240104T085113Z
SUMMARY:Eldres hyggestund
DESCRIPTION:\n\nhttps://www.auremisjonshus.no/kalender/2024/01/11/eldres-hyggestund/1141/
END:VEVENT

END:VCALENDAR