BEGIN:VCALENDAR
VERSION:2.0
PRODID:-//mWEB//NONSGML mWEB//NB
URL:https://www.auremisjonshus.no/kalender/ics
X-WR-CALNAME:Aure Misjonshus
REFRESH-INTERVAL;VALUE=DURATION:PT6H
X-PUBLISHED-TTL:PT6H    
CALSCALE:GREGORIAN
BEGIN:VEVENT
UID:auremisjonshus.no-532
DTSTAMP:20260423T165841Z
DTSTART:20190901T140000Z
DTEND:20190901T153000Z
URL:https://www.auremisjonshus.no/kalender/2019/09/01/samlingsfest/532/
CREATED:20190719T093534Z
LAST-MODIFIED:20190719T093534Z
SUMMARY:Samlingsfest
DESCRIPTION:Velkomen til "semesterstart" for møteaktiviteta på misjonshuset\,\n\nhttps://www.auremisjonshus.no/kalender/2019/09/01/samlingsfest/532/
END:VEVENT

END:VCALENDAR