BEGIN:VCALENDAR
VERSION:2.0
PRODID:-//mWEB//NONSGML mWEB//NB
URL:https://www.auremisjonshus.no/kalender/ics
X-WR-CALNAME:Aure Misjonshus
REFRESH-INTERVAL;VALUE=DURATION:PT6H
X-PUBLISHED-TTL:PT6H    
CALSCALE:GREGORIAN
BEGIN:VEVENT
UID:auremisjonshus.no-529
DTSTAMP:20260423T190103Z
DTSTART:20190825T220000Z
DTEND:20190826T215900Z
URL:https://www.auremisjonshus.no/kalender/2019/08/26/infomote-for-konfirmantar-1920/529/
CREATED:20190702T091308Z
LAST-MODIFIED:20190702T091308Z
SUMMARY:Infomøte for konfirmantar 19/20
DESCRIPTION:\n\nhttps://www.auremisjonshus.no/kalender/2019/08/26/infomote-for-konfirmantar-1920/529/
X-MICROSOFT-CDO-ALLDAYEVENT:TRUE
END:VEVENT

END:VCALENDAR