BEGIN:VCALENDAR
VERSION:2.0
PRODID:-//mWEB//NONSGML mWEB//NB
URL:https://www.auremisjonshus.no/kalender/ics
X-WR-CALNAME:Aure Misjonshus
REFRESH-INTERVAL;VALUE=DURATION:PT6H
X-PUBLISHED-TTL:PT6H    
CALSCALE:GREGORIAN
BEGIN:VEVENT
UID:auremisjonshus.no-490
DTSTAMP:20260423T183856Z
DTSTART:20190822T220000Z
DTEND:20190823T215900Z
URL:https://www.auremisjonshus.no/kalender/2019/08/23/utleige-toppidrettsveka/490/
CREATED:20181205T143928Z
LAST-MODIFIED:20181205T143928Z
SUMMARY:Utleige Toppidrettsveka
DESCRIPTION:\n\nhttps://www.auremisjonshus.no/kalender/2019/08/23/utleige-toppidrettsveka/490/
X-MICROSOFT-CDO-ALLDAYEVENT:TRUE
END:VEVENT

END:VCALENDAR