BEGIN:VCALENDAR
VERSION:2.0
PRODID:-//mWEB//NONSGML mWEB//NB
URL:https://www.auremisjonshus.no/kalender/ics
X-WR-CALNAME:Aure Misjonshus
REFRESH-INTERVAL;VALUE=DURATION:PT6H
X-PUBLISHED-TTL:PT6H    
CALSCALE:GREGORIAN
BEGIN:VEVENT
UID:auremisjonshus.no-488
DTSTAMP:20260423T184703Z
DTSTART:20190820T220000Z
DTEND:20190821T215900Z
URL:https://www.auremisjonshus.no/kalender/2019/08/21/utleige-toppidrettsveka/488/
CREATED:20181205T143907Z
LAST-MODIFIED:20181205T143907Z
SUMMARY:Utleige Toppidrettsveka
DESCRIPTION:\n\nhttps://www.auremisjonshus.no/kalender/2019/08/21/utleige-toppidrettsveka/488/
X-MICROSOFT-CDO-ALLDAYEVENT:TRUE
END:VEVENT

END:VCALENDAR