BEGIN:VCALENDAR
VERSION:2.0
PRODID:-//mWEB//NONSGML mWEB//NB
URL:https://www.auremisjonshus.no/kalender/ics
X-WR-CALNAME:Aure Misjonshus
REFRESH-INTERVAL;VALUE=DURATION:PT6H
X-PUBLISHED-TTL:PT6H    
CALSCALE:GREGORIAN
BEGIN:VEVENT
UID:auremisjonshus.no-484
DTSTAMP:20260423T184051Z
DTSTART:20190815T220000Z
DTEND:20190816T215900Z
URL:https://www.auremisjonshus.no/kalender/2019/08/16/utleige-ail/484/
CREATED:20181205T143749Z
LAST-MODIFIED:20181205T143749Z
SUMMARY:Utleige AIL
DESCRIPTION:\n\nhttps://www.auremisjonshus.no/kalender/2019/08/16/utleige-ail/484/
X-MICROSOFT-CDO-ALLDAYEVENT:TRUE
END:VEVENT

END:VCALENDAR