BEGIN:VCALENDAR
VERSION:2.0
PRODID:-//mWEB//NONSGML mWEB//NB
URL:https://www.auremisjonshus.no/kalender/ics
X-WR-CALNAME:Aure Misjonshus
REFRESH-INTERVAL;VALUE=DURATION:PT6H
X-PUBLISHED-TTL:PT6H    
CALSCALE:GREGORIAN
BEGIN:VEVENT
UID:auremisjonshus.no-485
DTSTAMP:20260423T184230Z
DTSTART:20190814T220000Z
DTEND:20190815T215900Z
URL:https://www.auremisjonshus.no/kalender/2019/08/15/utleige-ail/485/
CREATED:20181205T143802Z
LAST-MODIFIED:20181205T143819Z
SUMMARY:Utleige AIL
DESCRIPTION:\n\nhttps://www.auremisjonshus.no/kalender/2019/08/15/utleige-ail/485/
X-MICROSOFT-CDO-ALLDAYEVENT:TRUE
END:VEVENT

END:VCALENDAR