BEGIN:VCALENDAR
VERSION:2.0
PRODID:-//mWEB//NONSGML mWEB//NB
URL:https://www.auremisjonshus.no/kalender/ics
X-WR-CALNAME:Aure Misjonshus
REFRESH-INTERVAL;VALUE=DURATION:PT6H
X-PUBLISHED-TTL:PT6H    
CALSCALE:GREGORIAN
BEGIN:VEVENT
UID:auremisjonshus.no-483
DTSTAMP:20260423T185026Z
DTSTART:20190813T220000Z
DTEND:20190814T215900Z
URL:https://www.auremisjonshus.no/kalender/2019/08/14/utleige-ail/483/
CREATED:20181205T143735Z
LAST-MODIFIED:20181205T143735Z
SUMMARY:Utleige AIL
DESCRIPTION:\n\nhttps://www.auremisjonshus.no/kalender/2019/08/14/utleige-ail/483/
X-MICROSOFT-CDO-ALLDAYEVENT:TRUE
END:VEVENT

END:VCALENDAR