BEGIN:VCALENDAR
VERSION:2.0
PRODID:-//mWEB//NONSGML mWEB//NB
URL:https://www.auremisjonshus.no/kalender/ics
X-WR-CALNAME:Aure Misjonshus
REFRESH-INTERVAL;VALUE=DURATION:PT6H
X-PUBLISHED-TTL:PT6H    
CALSCALE:GREGORIAN
BEGIN:VEVENT
UID:auremisjonshus.no-533
DTSTAMP:20260423T191129Z
DTSTART:20190810T220000Z
DTEND:20190811T215900Z
URL:https://www.auremisjonshus.no/kalender/2019/08/11/utleige-ail/533/
CREATED:20190725T170343Z
LAST-MODIFIED:20190725T170343Z
SUMMARY:Utleige AIL
DESCRIPTION:\n\nhttps://www.auremisjonshus.no/kalender/2019/08/11/utleige-ail/533/
X-MICROSOFT-CDO-ALLDAYEVENT:TRUE
END:VEVENT

END:VCALENDAR