BEGIN:VCALENDAR
VERSION:2.0
PRODID:-//mWEB//NONSGML mWEB//NB
URL:https://www.auremisjonshus.no/kalender/ics
X-WR-CALNAME:Aure Misjonshus
REFRESH-INTERVAL;VALUE=DURATION:PT6H
X-PUBLISHED-TTL:PT6H    
CALSCALE:GREGORIAN
BEGIN:VEVENT
UID:auremisjonshus.no-505
DTSTAMP:20260423T190702Z
DTSTART:20190805T220000Z
DTEND:20190806T215900Z
URL:https://www.auremisjonshus.no/kalender/2019/08/06/bu-heime-leir/505/
CREATED:20190123T192713Z
LAST-MODIFIED:20190123T192713Z
SUMMARY:Bu heime-leir
DESCRIPTION:Arr. Den norske kyrkje.\n\nhttps://www.auremisjonshus.no/kalender/2019/08/06/bu-heime-leir/505/
X-MICROSOFT-CDO-ALLDAYEVENT:TRUE
END:VEVENT

END:VCALENDAR