BEGIN:VCALENDAR
VERSION:2.0
PRODID:-//mWEB//NONSGML mWEB//NB
URL:https://www.auremisjonshus.no/kalender/ics
X-WR-CALNAME:Aure Misjonshus
REFRESH-INTERVAL;VALUE=DURATION:PT6H
X-PUBLISHED-TTL:PT6H    
CALSCALE:GREGORIAN
BEGIN:VEVENT
UID:auremisjonshus.no-521
DTSTAMP:20260423T191216Z
DTSTART:20190804T110000Z
DTEND:20190804T123000Z
URL:https://www.auremisjonshus.no/kalender/2019/08/04/bjornholmen-bjornholmstemnet/521/
CREATED:20190423T211443Z
LAST-MODIFIED:20190722T114624Z
SUMMARY:Bjørnholmen: Bjørnholmstemnet
DESCRIPTION: Velkomen til Bjørnholmstemnet sundag 4. august klokka 13\, på Bjørnholmen i Aure. Andakt ved Gunhild Lidal Rynning\, vitnestund i etterkant av møtet.\n \nDet blir sal av pølse med brød\, hamburger og brus etter møtet.\n \nBåtskyss frå kaia ved Bygg ...\n\nhttps://www.auremisjonshus.no/kalender/2019/08/04/bjornholmen-bjornholmstemnet/521/
END:VEVENT

END:VCALENDAR