BEGIN:VCALENDAR
VERSION:2.0
PRODID:-//mWEB//NONSGML mWEB//NB
URL:https://www.auremisjonshus.no/kalender/ics
X-WR-CALNAME:Aure Misjonshus
REFRESH-INTERVAL;VALUE=DURATION:PT6H
X-PUBLISHED-TTL:PT6H    
CALSCALE:GREGORIAN
BEGIN:VEVENT
UID:auremisjonshus.no-530
DTSTAMP:20260423T184908Z
DTSTART:20190802T220000Z
DTEND:20190803T215900Z
URL:https://www.auremisjonshus.no/kalender/2019/08/03/privat-leige/530/
CREATED:20190719T093127Z
LAST-MODIFIED:20190719T093127Z
SUMMARY:Privat leige
DESCRIPTION:\n\nhttps://www.auremisjonshus.no/kalender/2019/08/03/privat-leige/530/
X-MICROSOFT-CDO-ALLDAYEVENT:TRUE
END:VEVENT

END:VCALENDAR