BEGIN:VCALENDAR
VERSION:2.0
PRODID:-//mWEB//NONSGML mWEB//NB
URL:https://www.auremisjonshus.no/kalender/ics
X-WR-CALNAME:Aure Misjonshus
REFRESH-INTERVAL;VALUE=DURATION:PT6H
X-PUBLISHED-TTL:PT6H    
CALSCALE:GREGORIAN
BEGIN:VEVENT
UID:auremisjonshus.no-503
DTSTAMP:20260423T232038Z
DTSTART:20190616T130000Z
DTEND:20190616T143000Z
URL:https://www.auremisjonshus.no/kalender/2019/06/16/hagemote-hos-ruth-og-morten-arve-gjerde/503/
CREATED:20190122T140830Z
LAST-MODIFIED:20190122T140830Z
SUMMARY:«Hagemøte» hos Ruth og Morten Arve Gjerde
DESCRIPTION:Jens Espeland talar.\n\nArr. NLM.\n\nhttps://www.auremisjonshus.no/kalender/2019/06/16/hagemote-hos-ruth-og-morten-arve-gjerde/503/
END:VEVENT

END:VCALENDAR