BEGIN:VCALENDAR
VERSION:2.0
PRODID:-//mWEB//NONSGML mWEB//NB
URL:https://www.auremisjonshus.no/kalender/ics
X-WR-CALNAME:Aure Misjonshus
REFRESH-INTERVAL;VALUE=DURATION:PT6H
X-PUBLISHED-TTL:PT6H    
CALSCALE:GREGORIAN
BEGIN:VEVENT
UID:auremisjonshus.no-472
DTSTAMP:20260423T232345Z
DTSTART:20190614T170000Z
DTEND:20190614T190000Z
URL:https://www.auremisjonshus.no/kalender/2019/06/14/tweens/472/
CREATED:20181205T143231Z
LAST-MODIFIED:20181205T143231Z
SUMMARY:Tweens
DESCRIPTION:For deg som går på 5. - 7. trinn.\n\nhttps://www.auremisjonshus.no/kalender/2019/06/14/tweens/472/
END:VEVENT

END:VCALENDAR