BEGIN:VCALENDAR
VERSION:2.0
PRODID:-//mWEB//NONSGML mWEB//NB
URL:https://www.auremisjonshus.no/kalender/ics
X-WR-CALNAME:Aure Misjonshus
REFRESH-INTERVAL;VALUE=DURATION:PT6H
X-PUBLISHED-TTL:PT6H    
CALSCALE:GREGORIAN
BEGIN:VEVENT
UID:auremisjonshus.no-528
DTSTAMP:20260423T232258Z
DTSTART:20190613T170000Z
DTEND:20190613T183000Z
URL:https://www.auremisjonshus.no/kalender/2019/06/13/konfirmantar-1920/528/
CREATED:20190514T084300Z
LAST-MODIFIED:20190514T084300Z
SUMMARY:Konfirmantar 19/20
DESCRIPTION:\n\nhttps://www.auremisjonshus.no/kalender/2019/06/13/konfirmantar-1920/528/
END:VEVENT

END:VCALENDAR