BEGIN:VCALENDAR
VERSION:2.0
PRODID:-//mWEB//NONSGML mWEB//NB
URL:https://www.auremisjonshus.no/kalender/ics
X-WR-CALNAME:Aure Misjonshus
REFRESH-INTERVAL;VALUE=DURATION:PT6H
X-PUBLISHED-TTL:PT6H    
CALSCALE:GREGORIAN
BEGIN:VEVENT
UID:auremisjonshus.no-460
DTSTAMP:20260423T230448Z
DTSTART:20190612T220000Z
DTEND:20190613T215900Z
URL:https://www.auremisjonshus.no/kalender/2019/06/13/eldres-hyggestund/460/
CREATED:20181205T142739Z
LAST-MODIFIED:20181205T142739Z
SUMMARY:Eldres hyggestund
DESCRIPTION:\n\nhttps://www.auremisjonshus.no/kalender/2019/06/13/eldres-hyggestund/460/
X-MICROSOFT-CDO-ALLDAYEVENT:TRUE
END:VEVENT

END:VCALENDAR