BEGIN:VCALENDAR
VERSION:2.0
PRODID:-//mWEB//NONSGML mWEB//NB
URL:https://www.auremisjonshus.no/kalender/ics
X-WR-CALNAME:Aure Misjonshus
REFRESH-INTERVAL;VALUE=DURATION:PT6H
X-PUBLISHED-TTL:PT6H    
CALSCALE:GREGORIAN
BEGIN:VEVENT
UID:auremisjonshus.no-522
DTSTAMP:20260423T231903Z
DTSTART:20190608T220000Z
DTEND:20190609T215900Z
URL:https://www.auremisjonshus.no/kalender/2019/06/09/privat-utleige/522/
CREATED:20190426T114715Z
LAST-MODIFIED:20190426T114715Z
SUMMARY:privat utleige
DESCRIPTION:\n\nhttps://www.auremisjonshus.no/kalender/2019/06/09/privat-utleige/522/
X-MICROSOFT-CDO-ALLDAYEVENT:TRUE
END:VEVENT

END:VCALENDAR