BEGIN:VCALENDAR
VERSION:2.0
PRODID:-//mWEB//NONSGML mWEB//NB
URL:https://www.auremisjonshus.no/kalender/ics
X-WR-CALNAME:Aure Misjonshus
REFRESH-INTERVAL;VALUE=DURATION:PT6H
X-PUBLISHED-TTL:PT6H    
CALSCALE:GREGORIAN
BEGIN:VEVENT
UID:auremisjonshus.no-500
DTSTAMP:20260423T232447Z
DTSTART:20190605T170000Z
DTEND:20190605T183000Z
URL:https://www.auremisjonshus.no/kalender/2019/06/05/sang-i-sommarkveld-med-aure-misjonskor/500/
CREATED:20190109T124421Z
LAST-MODIFIED:20190602T203244Z
SUMMARY:Sang i sommarkveld med Aure Misjonskor
DESCRIPTION:\n\nhttps://www.auremisjonshus.no/kalender/2019/06/05/sang-i-sommarkveld-med-aure-misjonskor/500/
END:VEVENT

END:VCALENDAR