BEGIN:VCALENDAR
VERSION:2.0
PRODID:-//mWEB//NONSGML mWEB//NB
URL:https://www.auremisjonshus.no/kalender/ics
X-WR-CALNAME:Aure Misjonshus
REFRESH-INTERVAL;VALUE=DURATION:PT6H
X-PUBLISHED-TTL:PT6H    
CALSCALE:GREGORIAN
BEGIN:VEVENT
UID:auremisjonshus.no-527
DTSTAMP:20260424T013022Z
DTSTART:20190526T140000Z
DTEND:20190526T153000Z
URL:https://www.auremisjonshus.no/kalender/2019/05/26/familiemote/527/
CREATED:20190509T091231Z
LAST-MODIFIED:20190509T091231Z
SUMMARY:Familiemøte
DESCRIPTION:\n\nhttps://www.auremisjonshus.no/kalender/2019/05/26/familiemote/527/
END:VEVENT

END:VCALENDAR