BEGIN:VCALENDAR
VERSION:2.0
PRODID:-//mWEB//NONSGML mWEB//NB
URL:https://www.auremisjonshus.no/kalender/ics
X-WR-CALNAME:Aure Misjonshus
REFRESH-INTERVAL;VALUE=DURATION:PT6H
X-PUBLISHED-TTL:PT6H    
CALSCALE:GREGORIAN
BEGIN:VEVENT
UID:auremisjonshus.no-471
DTSTAMP:20260424T013146Z
DTSTART:20190524T170000Z
DTEND:20190524T190000Z
URL:https://www.auremisjonshus.no/kalender/2019/05/24/tweens-pa-osbakken/471/
CREATED:20181205T143217Z
LAST-MODIFIED:20190521T124840Z
SUMMARY:Tweens - på Osbakken
DESCRIPTION:For deg som går på 5. - 7. trinn.\n\nhttps://www.auremisjonshus.no/kalender/2019/05/24/tweens-pa-osbakken/471/
END:VEVENT

END:VCALENDAR