BEGIN:VCALENDAR
VERSION:2.0
PRODID:-//mWEB//NONSGML mWEB//NB
URL:https://www.auremisjonshus.no/kalender/ics
X-WR-CALNAME:Aure Misjonshus
REFRESH-INTERVAL;VALUE=DURATION:PT6H
X-PUBLISHED-TTL:PT6H    
CALSCALE:GREGORIAN
BEGIN:VEVENT
UID:auremisjonshus.no-526
DTSTAMP:20260424T011418Z
DTSTART:20190510T220000Z
DTEND:20190511T215900Z
URL:https://www.auremisjonshus.no/kalender/2019/05/11/privat-utleige/526/
CREATED:20190428T162338Z
LAST-MODIFIED:20190428T162338Z
SUMMARY:Privat utleige
DESCRIPTION:\n\nhttps://www.auremisjonshus.no/kalender/2019/05/11/privat-utleige/526/
X-MICROSOFT-CDO-ALLDAYEVENT:TRUE
END:VEVENT

END:VCALENDAR