BEGIN:VCALENDAR
VERSION:2.0
PRODID:-//mWEB//NONSGML mWEB//NB
URL:https://www.auremisjonshus.no/kalender/ics
X-WR-CALNAME:Aure Misjonshus
REFRESH-INTERVAL;VALUE=DURATION:PT6H
X-PUBLISHED-TTL:PT6H    
CALSCALE:GREGORIAN
BEGIN:VEVENT
UID:auremisjonshus.no-517
DTSTAMP:20260424T010440Z
DTSTART:20190506T090000Z
DTEND:20190506T100000Z
URL:https://www.auremisjonshus.no/kalender/2019/05/06/babysang/517/
CREATED:20190210T204247Z
LAST-MODIFIED:20190210T204247Z
SUMMARY:Babysang
DESCRIPTION:\n\nhttps://www.auremisjonshus.no/kalender/2019/05/06/babysang/517/
END:VEVENT

END:VCALENDAR