BEGIN:VCALENDAR
VERSION:2.0
PRODID:-//mWEB//NONSGML mWEB//NB
URL:https://www.auremisjonshus.no/kalender/ics
X-WR-CALNAME:Aure Misjonshus
REFRESH-INTERVAL;VALUE=DURATION:PT6H
X-PUBLISHED-TTL:PT6H    
CALSCALE:GREGORIAN
BEGIN:VEVENT
UID:auremisjonshus.no-525
DTSTAMP:20260424T013140Z
DTSTART:20190503T220000Z
DTEND:20190504T215900Z
URL:https://www.auremisjonshus.no/kalender/2019/05/04/dugnad-velkomen-alle-som-vil-hjelpe-til/525/
CREATED:20190426T120234Z
LAST-MODIFIED:20190426T120234Z
SUMMARY:Dugnad - Velkomen alle som vil hjelpe til
DESCRIPTION:Vil du bidra med å ta vare på huset? \n\nhttps://www.auremisjonshus.no/kalender/2019/05/04/dugnad-velkomen-alle-som-vil-hjelpe-til/525/
X-MICROSOFT-CDO-ALLDAYEVENT:TRUE
END:VEVENT

END:VCALENDAR