BEGIN:VCALENDAR
VERSION:2.0
PRODID:-//mWEB//NONSGML mWEB//NB
URL:https://www.auremisjonshus.no/kalender/ics
X-WR-CALNAME:Aure Misjonshus
REFRESH-INTERVAL;VALUE=DURATION:PT6H
X-PUBLISHED-TTL:PT6H    
CALSCALE:GREGORIAN
BEGIN:VEVENT
UID:auremisjonshus.no-516
DTSTAMP:20260424T030036Z
DTSTART:20190429T090000Z
DTEND:20190429T100000Z
URL:https://www.auremisjonshus.no/kalender/2019/04/29/babysang/516/
CREATED:20190210T204234Z
LAST-MODIFIED:20190210T204234Z
SUMMARY:Babysang
DESCRIPTION:\n\nhttps://www.auremisjonshus.no/kalender/2019/04/29/babysang/516/
END:VEVENT

END:VCALENDAR