BEGIN:VCALENDAR
VERSION:2.0
PRODID:-//mWEB//NONSGML mWEB//NB
URL:https://www.auremisjonshus.no/kalender/ics
X-WR-CALNAME:Aure Misjonshus
REFRESH-INTERVAL;VALUE=DURATION:PT6H
X-PUBLISHED-TTL:PT6H    
CALSCALE:GREGORIAN
BEGIN:VEVENT
UID:auremisjonshus.no-482
DTSTAMP:20260424T030706Z
DTSTART:20190428T140000Z
DTEND:20190428T153000Z
URL:https://www.auremisjonshus.no/kalender/2019/04/28/mote-nlm/482/
CREATED:20181205T143708Z
LAST-MODIFIED:20181205T143708Z
SUMMARY:Møte NLM
DESCRIPTION:\n\nhttps://www.auremisjonshus.no/kalender/2019/04/28/mote-nlm/482/
END:VEVENT

END:VCALENDAR