BEGIN:VCALENDAR
VERSION:2.0
PRODID:-//mWEB//NONSGML mWEB//NB
URL:https://www.auremisjonshus.no/kalender/ics
X-WR-CALNAME:Aure Misjonshus
REFRESH-INTERVAL;VALUE=DURATION:PT6H
X-PUBLISHED-TTL:PT6H    
CALSCALE:GREGORIAN
BEGIN:VEVENT
UID:auremisjonshus.no-481
DTSTAMP:20260424T030409Z
DTSTART:20190427T140000Z
DTEND:20190427T153000Z
URL:https://www.auremisjonshus.no/kalender/2019/04/27/sangkveld/481/
CREATED:20181205T143645Z
LAST-MODIFIED:20190422T210042Z
SUMMARY:Sangkveld
DESCRIPTION:\n\nhttps://www.auremisjonshus.no/kalender/2019/04/27/sangkveld/481/
END:VEVENT

END:VCALENDAR