BEGIN:VCALENDAR
VERSION:2.0
PRODID:-//mWEB//NONSGML mWEB//NB
URL:https://www.auremisjonshus.no/kalender/ics
X-WR-CALNAME:Aure Misjonshus
REFRESH-INTERVAL;VALUE=DURATION:PT6H
X-PUBLISHED-TTL:PT6H    
CALSCALE:GREGORIAN
BEGIN:VEVENT
UID:auremisjonshus.no-502
DTSTAMP:20260424T031002Z
DTSTART:20190422T173000Z
DTEND:20190422T190000Z
URL:https://www.auremisjonshus.no/kalender/2019/04/22/skardsgrenda-bedehus-paskemote-v-asbjorn-barlaup/502/
CREATED:20190122T140710Z
LAST-MODIFIED:20190122T140727Z
SUMMARY:Skardsgrenda bedehus: Påskemøte v. Asbjørn Barlaup
DESCRIPTION:Arr. NLM\n\nhttps://www.auremisjonshus.no/kalender/2019/04/22/skardsgrenda-bedehus-paskemote-v-asbjorn-barlaup/502/
END:VEVENT

END:VCALENDAR