BEGIN:VCALENDAR
VERSION:2.0
PRODID:-//mWEB//NONSGML mWEB//NB
URL:https://www.auremisjonshus.no/kalender/ics
X-WR-CALNAME:Aure Misjonshus
REFRESH-INTERVAL;VALUE=DURATION:PT6H
X-PUBLISHED-TTL:PT6H    
CALSCALE:GREGORIAN
BEGIN:VEVENT
UID:auremisjonshus.no-480
DTSTAMP:20260424T030849Z
DTSTART:20190414T090000Z
DTEND:20190414T103000Z
URL:https://www.auremisjonshus.no/kalender/2019/04/14/paskemote-indremisjonsforbundet/480/
CREATED:20181205T143626Z
LAST-MODIFIED:20190318T130332Z
SUMMARY:Påskemøte Indremisjonsforbundet
DESCRIPTION:Møter ved Kåre og Annbjørg Sævareid.\n\nProgram for dagen\n11:00 Formiddagsmøte\n13:00 Middag\n14:30 Familiemøte\nTalere: Annbjørg og Kåre Sævareid\nAure Misjonskor deltar.\n\n \n\nVelkommen til store og små!\n\nhttps://www.auremisjonshus.no/kalender/2019/04/14/paskemote-indremisjonsforbundet/480/
END:VEVENT

END:VCALENDAR