BEGIN:VCALENDAR
VERSION:2.0
PRODID:-//mWEB//NONSGML mWEB//NB
URL:https://www.auremisjonshus.no/kalender/ics
X-WR-CALNAME:Aure Misjonshus
REFRESH-INTERVAL;VALUE=DURATION:PT6H
X-PUBLISHED-TTL:PT6H    
CALSCALE:GREGORIAN
BEGIN:VEVENT
UID:auremisjonshus.no-519
DTSTAMP:20260424T030833Z
DTSTART:20190408T173000Z
DTEND:20190408T190000Z
URL:https://www.auremisjonshus.no/kalender/2019/04/08/mote-kristen-muslimmisjon-ved-eivind-fla/519/
CREATED:20190219T195333Z
LAST-MODIFIED:20190219T195333Z
SUMMARY:Møte Kristen Muslimmisjon ved Eivind Flå
DESCRIPTION:\n\nhttps://www.auremisjonshus.no/kalender/2019/04/08/mote-kristen-muslimmisjon-ved-eivind-fla/519/
END:VEVENT

END:VCALENDAR