BEGIN:VCALENDAR
VERSION:2.0
PRODID:-//mWEB//NONSGML mWEB//NB
URL:https://www.auremisjonshus.no/kalender/ics
X-WR-CALNAME:Aure Misjonshus
REFRESH-INTERVAL;VALUE=DURATION:PT6H
X-PUBLISHED-TTL:PT6H    
CALSCALE:GREGORIAN
BEGIN:VEVENT
UID:auremisjonshus.no-515
DTSTAMP:20260424T025055Z
DTSTART:20190408T090000Z
DTEND:20190408T100000Z
URL:https://www.auremisjonshus.no/kalender/2019/04/08/babysang/515/
CREATED:20190210T204222Z
LAST-MODIFIED:20190210T204222Z
SUMMARY:Babysang
DESCRIPTION:\n\nhttps://www.auremisjonshus.no/kalender/2019/04/08/babysang/515/
END:VEVENT

END:VCALENDAR