BEGIN:VCALENDAR
VERSION:2.0
PRODID:-//mWEB//NONSGML mWEB//NB
URL:https://www.auremisjonshus.no/kalender/ics
X-WR-CALNAME:Aure Misjonshus
REFRESH-INTERVAL;VALUE=DURATION:PT6H
X-PUBLISHED-TTL:PT6H    
CALSCALE:GREGORIAN
BEGIN:VEVENT
UID:auremisjonshus.no-497
DTSTAMP:20260424T030214Z
DTSTART:20190402T220000Z
DTEND:20190403T215900Z
URL:https://www.auremisjonshus.no/kalender/2019/04/03/oving-aure-misjonskor/497/
CREATED:20190109T124308Z
LAST-MODIFIED:20190109T124308Z
SUMMARY:Øving Aure Misjonskor
DESCRIPTION:\n\nhttps://www.auremisjonshus.no/kalender/2019/04/03/oving-aure-misjonskor/497/
X-MICROSOFT-CDO-ALLDAYEVENT:TRUE
END:VEVENT

END:VCALENDAR