BEGIN:VCALENDAR
VERSION:2.0
PRODID:-//mWEB//NONSGML mWEB//NB
URL:https://www.auremisjonshus.no/kalender/ics
X-WR-CALNAME:Aure Misjonshus
REFRESH-INTERVAL;VALUE=DURATION:PT6H
X-PUBLISHED-TTL:PT6H    
CALSCALE:GREGORIAN
BEGIN:VEVENT
UID:auremisjonshus.no-518
DTSTAMP:20260424T043829Z
DTSTART:20190328T230000Z
DTEND:20190329T225900Z
URL:https://www.auremisjonshus.no/kalender/2019/03/29/estlandskveld/518/
CREATED:20190212T061645Z
LAST-MODIFIED:20190212T061645Z
SUMMARY:Estlandskveld
DESCRIPTION:\n\nhttps://www.auremisjonshus.no/kalender/2019/03/29/estlandskveld/518/
X-MICROSOFT-CDO-ALLDAYEVENT:TRUE
END:VEVENT

END:VCALENDAR