BEGIN:VCALENDAR
VERSION:2.0
PRODID:-//mWEB//NONSGML mWEB//NB
URL:https://www.auremisjonshus.no/kalender/ics
X-WR-CALNAME:Aure Misjonshus
REFRESH-INTERVAL;VALUE=DURATION:PT6H
X-PUBLISHED-TTL:PT6H    
CALSCALE:GREGORIAN
BEGIN:VEVENT
UID:auremisjonshus.no-514
DTSTAMP:20260424T044106Z
DTSTART:20190325T100000Z
DTEND:20190325T110000Z
URL:https://www.auremisjonshus.no/kalender/2019/03/25/babysang/514/
CREATED:20190210T204210Z
LAST-MODIFIED:20190210T204210Z
SUMMARY:Babysang
DESCRIPTION:\n\nhttps://www.auremisjonshus.no/kalender/2019/03/25/babysang/514/
END:VEVENT

END:VCALENDAR