BEGIN:VCALENDAR
VERSION:2.0
PRODID:-//mWEB//NONSGML mWEB//NB
URL:https://www.auremisjonshus.no/kalender/ics
X-WR-CALNAME:Aure Misjonshus
REFRESH-INTERVAL;VALUE=DURATION:PT6H
X-PUBLISHED-TTL:PT6H    
CALSCALE:GREGORIAN
BEGIN:VEVENT
UID:auremisjonshus.no-476
DTSTAMP:20260424T044427Z
DTSTART:20190321T183000Z
DTEND:20190321T200000Z
URL:https://www.auremisjonshus.no/kalender/2019/03/21/arsmote-aure-misjonshuslag/476/
CREATED:20181205T143504Z
LAST-MODIFIED:20190317T120949Z
SUMMARY:Årsmøte Aure Misjonshuslag
DESCRIPTION:\n\nhttps://www.auremisjonshus.no/kalender/2019/03/21/arsmote-aure-misjonshuslag/476/
END:VEVENT

END:VCALENDAR