BEGIN:VCALENDAR
VERSION:2.0
PRODID:-//mWEB//NONSGML mWEB//NB
URL:https://www.auremisjonshus.no/kalender/ics
X-WR-CALNAME:Aure Misjonshus
REFRESH-INTERVAL;VALUE=DURATION:PT6H
X-PUBLISHED-TTL:PT6H    
CALSCALE:GREGORIAN
BEGIN:VEVENT
UID:auremisjonshus.no-479
DTSTAMP:20260424T050408Z
DTSTART:20190317T140000Z
DTEND:20190317T153000Z
URL:https://www.auremisjonshus.no/kalender/2019/03/17/mote-nlm-ved-stein-raunehaug/479/
CREATED:20181205T143558Z
LAST-MODIFIED:20190317T121006Z
SUMMARY:Møte NLM ved Stein Raunehaug
DESCRIPTION:\n\nhttps://www.auremisjonshus.no/kalender/2019/03/17/mote-nlm-ved-stein-raunehaug/479/
END:VEVENT

END:VCALENDAR