BEGIN:VCALENDAR
VERSION:2.0
PRODID:-//mWEB//NONSGML mWEB//NB
URL:https://www.auremisjonshus.no/kalender/ics
X-WR-CALNAME:Aure Misjonshus
REFRESH-INTERVAL;VALUE=DURATION:PT6H
X-PUBLISHED-TTL:PT6H    
CALSCALE:GREGORIAN
BEGIN:VEVENT
UID:auremisjonshus.no-478
DTSTAMP:20260424T045506Z
DTSTART:20190316T170000Z
DTEND:20190316T183000Z
URL:https://www.auremisjonshus.no/kalender/2019/03/16/vihals-grendahus-sangkveld-med-kor-i-all-verden-og-stein-raunehaug/478/
CREATED:20181205T143544Z
LAST-MODIFIED:20190304T225333Z
SUMMARY:Vihals grendahus: Sangkveld med Kor I All Verden og Stein Raunehaug
DESCRIPTION:\n\nhttps://www.auremisjonshus.no/kalender/2019/03/16/vihals-grendahus-sangkveld-med-kor-i-all-verden-og-stein-raunehaug/478/
END:VEVENT

END:VCALENDAR