BEGIN:VCALENDAR
VERSION:2.0
PRODID:-//mWEB//NONSGML mWEB//NB
URL:https://www.auremisjonshus.no/kalender/ics
X-WR-CALNAME:Aure Misjonshus
REFRESH-INTERVAL;VALUE=DURATION:PT6H
X-PUBLISHED-TTL:PT6H    
CALSCALE:GREGORIAN
BEGIN:VEVENT
UID:auremisjonshus.no-468
DTSTAMP:20260424T043548Z
DTSTART:20190315T180000Z
DTEND:20190315T200000Z
URL:https://www.auremisjonshus.no/kalender/2019/03/15/tweens/468/
CREATED:20181205T143124Z
LAST-MODIFIED:20181205T143124Z
SUMMARY:Tweens
DESCRIPTION:For deg som går på 5. - 7. trinn.\n\nhttps://www.auremisjonshus.no/kalender/2019/03/15/tweens/468/
END:VEVENT

END:VCALENDAR