BEGIN:VCALENDAR
VERSION:2.0
PRODID:-//mWEB//NONSGML mWEB//NB
URL:https://www.auremisjonshus.no/kalender/ics
X-WR-CALNAME:Aure Misjonshus
REFRESH-INTERVAL;VALUE=DURATION:PT6H
X-PUBLISHED-TTL:PT6H    
CALSCALE:GREGORIAN
BEGIN:VEVENT
UID:auremisjonshus.no-510
DTSTAMP:20260424T045828Z
DTSTART:20190314T183000Z
DTEND:20190314T200000Z
URL:https://www.auremisjonshus.no/kalender/2019/03/14/mote-nlm-ved-stein-raunehaug/510/
CREATED:20190201T211736Z
LAST-MODIFIED:20190201T211736Z
SUMMARY:Møte NLM ved Stein Raunehaug
DESCRIPTION:\n\nhttps://www.auremisjonshus.no/kalender/2019/03/14/mote-nlm-ved-stein-raunehaug/510/
END:VEVENT

END:VCALENDAR