BEGIN:VCALENDAR
VERSION:2.0
PRODID:-//mWEB//NONSGML mWEB//NB
URL:https://www.auremisjonshus.no/kalender/ics
X-WR-CALNAME:Aure Misjonshus
REFRESH-INTERVAL;VALUE=DURATION:PT6H
X-PUBLISHED-TTL:PT6H    
CALSCALE:GREGORIAN
BEGIN:VEVENT
UID:auremisjonshus.no-501
DTSTAMP:20260424T044427Z
DTSTART:20190313T183000Z
DTEND:20190313T200000Z
URL:https://www.auremisjonshus.no/kalender/2019/03/13/mote-nlm-ved-stein-raunehaug/501/
CREATED:20190122T140615Z
LAST-MODIFIED:20190304T183317Z
SUMMARY:Møte NLM ved Stein Raunehaug
DESCRIPTION:Flytta frå Skardsgrenda bedehus.\n\nhttps://www.auremisjonshus.no/kalender/2019/03/13/mote-nlm-ved-stein-raunehaug/501/
END:VEVENT

END:VCALENDAR