BEGIN:VCALENDAR
VERSION:2.0
PRODID:-//mWEB//NONSGML mWEB//NB
URL:https://www.auremisjonshus.no/kalender/ics
X-WR-CALNAME:Aure Misjonshus
REFRESH-INTERVAL;VALUE=DURATION:PT6H
X-PUBLISHED-TTL:PT6H    
CALSCALE:GREGORIAN
BEGIN:VEVENT
UID:auremisjonshus.no-477
DTSTAMP:20260424T050552Z
DTSTART:20190312T183000Z
DTEND:20190312T200000Z
URL:https://www.auremisjonshus.no/kalender/2019/03/12/mote-nlm-ved-stein-raunehaug/477/
CREATED:20181205T143529Z
LAST-MODIFIED:20190304T183241Z
SUMMARY:Møte NLM ved Stein Raunehaug
DESCRIPTION:Flytta frå Skardsgrenda bedehus.\n\nhttps://www.auremisjonshus.no/kalender/2019/03/12/mote-nlm-ved-stein-raunehaug/477/
END:VEVENT

END:VCALENDAR