BEGIN:VCALENDAR
VERSION:2.0
PRODID:-//mWEB//NONSGML mWEB//NB
URL:https://www.auremisjonshus.no/kalender/ics
X-WR-CALNAME:Aure Misjonshus
REFRESH-INTERVAL;VALUE=DURATION:PT6H
X-PUBLISHED-TTL:PT6H    
CALSCALE:GREGORIAN
BEGIN:VEVENT
UID:auremisjonshus.no-513
DTSTAMP:20260424T043547Z
DTSTART:20190311T100000Z
DTEND:20190311T110000Z
URL:https://www.auremisjonshus.no/kalender/2019/03/11/babysang/513/
CREATED:20190210T204201Z
LAST-MODIFIED:20190210T204201Z
SUMMARY:Babysang
DESCRIPTION:\n\nhttps://www.auremisjonshus.no/kalender/2019/03/11/babysang/513/
END:VEVENT

END:VCALENDAR