BEGIN:VCALENDAR
VERSION:2.0
PRODID:-//mWEB//NONSGML mWEB//NB
URL:https://www.auremisjonshus.no/kalender/ics
X-WR-CALNAME:Aure Misjonshus
REFRESH-INTERVAL;VALUE=DURATION:PT6H
X-PUBLISHED-TTL:PT6H    
CALSCALE:GREGORIAN
BEGIN:VEVENT
UID:auremisjonshus.no-511
DTSTAMP:20260424T043132Z
DTSTART:20190308T230000Z
DTEND:20190309T225900Z
URL:https://www.auremisjonshus.no/kalender/2019/03/09/konfirmantsamling/511/
CREATED:20190207T142506Z
LAST-MODIFIED:20190207T142506Z
SUMMARY:Konfirmantsamling
DESCRIPTION:\n\nhttps://www.auremisjonshus.no/kalender/2019/03/09/konfirmantsamling/511/
LOCATION:Konfirmantsamling
X-MICROSOFT-CDO-ALLDAYEVENT:TRUE
END:VEVENT

END:VCALENDAR