BEGIN:VCALENDAR
VERSION:2.0
PRODID:-//mWEB//NONSGML mWEB//NB
URL:https://www.auremisjonshus.no/kalender/ics
X-WR-CALNAME:Aure Misjonshus
REFRESH-INTERVAL;VALUE=DURATION:PT6H
X-PUBLISHED-TTL:PT6H    
CALSCALE:GREGORIAN
BEGIN:VEVENT
UID:auremisjonshus.no-495
DTSTAMP:20260424T061919Z
DTSTART:20190219T230000Z
DTEND:20190220T225900Z
URL:https://www.auremisjonshus.no/kalender/2019/02/20/oving-aure-misjonskor/495/
CREATED:20190109T124247Z
LAST-MODIFIED:20190109T124247Z
SUMMARY:Øving Aure Misjonskor
DESCRIPTION:\n\nhttps://www.auremisjonshus.no/kalender/2019/02/20/oving-aure-misjonskor/495/
X-MICROSOFT-CDO-ALLDAYEVENT:TRUE
END:VEVENT

END:VCALENDAR