BEGIN:VCALENDAR
VERSION:2.0
PRODID:-//mWEB//NONSGML mWEB//NB
URL:https://www.auremisjonshus.no/kalender/ics
X-WR-CALNAME:Aure Misjonshus
REFRESH-INTERVAL;VALUE=DURATION:PT6H
X-PUBLISHED-TTL:PT6H    
CALSCALE:GREGORIAN
BEGIN:VEVENT
UID:auremisjonshus.no-491
DTSTAMP:20260424T063320Z
DTSTART:20190217T180000Z
DTEND:20190217T193000Z
URL:https://www.auremisjonshus.no/kalender/2019/02/17/leirdalen-elieser-mote/491/
CREATED:20181212T161223Z
LAST-MODIFIED:20181212T161223Z
SUMMARY:Leirdalen: Elieser-møte
DESCRIPTION:Arr. Den Indre Sjømannsmisjon.\n\nhttps://www.auremisjonshus.no/kalender/2019/02/17/leirdalen-elieser-mote/491/
END:VEVENT

END:VCALENDAR