BEGIN:VCALENDAR
VERSION:2.0
PRODID:-//mWEB//NONSGML mWEB//NB
URL:https://www.auremisjonshus.no/kalender/ics
X-WR-CALNAME:Aure Misjonshus
REFRESH-INTERVAL;VALUE=DURATION:PT6H
X-PUBLISHED-TTL:PT6H    
CALSCALE:GREGORIAN
BEGIN:VEVENT
UID:auremisjonshus.no-493
DTSTAMP:20260424T063408Z
DTSTART:20190216T230000Z
DTEND:20190217T225900Z
URL:https://www.auremisjonshus.no/kalender/2019/02/17/konfirmantsamling/493/
CREATED:20190104T182105Z
LAST-MODIFIED:20190104T182105Z
SUMMARY:Konfirmantsamling
DESCRIPTION:\n\nhttps://www.auremisjonshus.no/kalender/2019/02/17/konfirmantsamling/493/
X-MICROSOFT-CDO-ALLDAYEVENT:TRUE
END:VEVENT

END:VCALENDAR