BEGIN:VCALENDAR
VERSION:2.0
PRODID:-//mWEB//NONSGML mWEB//NB
URL:https://www.auremisjonshus.no/kalender/ics
X-WR-CALNAME:Aure Misjonshus
REFRESH-INTERVAL;VALUE=DURATION:PT6H
X-PUBLISHED-TTL:PT6H    
CALSCALE:GREGORIAN
BEGIN:VEVENT
UID:auremisjonshus.no-507
DTSTAMP:20260424T062508Z
DTSTART:20190215T230000Z
DTEND:20190216T225900Z
URL:https://www.auremisjonshus.no/kalender/2019/02/16/konfirmantsamling/507/
CREATED:20190201T211515Z
LAST-MODIFIED:20190201T211515Z
SUMMARY:Konfirmantsamling
DESCRIPTION:\n\nhttps://www.auremisjonshus.no/kalender/2019/02/16/konfirmantsamling/507/
X-MICROSOFT-CDO-ALLDAYEVENT:TRUE
END:VEVENT

END:VCALENDAR