BEGIN:VCALENDAR
VERSION:2.0
PRODID:-//mWEB//NONSGML mWEB//NB
URL:https://www.auremisjonshus.no/kalender/ics
X-WR-CALNAME:Aure Misjonshus
REFRESH-INTERVAL;VALUE=DURATION:PT6H
X-PUBLISHED-TTL:PT6H    
CALSCALE:GREGORIAN
BEGIN:VEVENT
UID:auremisjonshus.no-467
DTSTAMP:20260424T063732Z
DTSTART:20190215T180000Z
DTEND:20190215T200000Z
URL:https://www.auremisjonshus.no/kalender/2019/02/15/tweens/467/
CREATED:20181205T143108Z
LAST-MODIFIED:20190109T124202Z
SUMMARY:Tweens
DESCRIPTION:For deg som går på 5. - 7. trinn.\n\nhttps://www.auremisjonshus.no/kalender/2019/02/15/tweens/467/
END:VEVENT

END:VCALENDAR