BEGIN:VCALENDAR
VERSION:2.0
PRODID:-//mWEB//NONSGML mWEB//NB
URL:https://www.auremisjonshus.no/kalender/ics
X-WR-CALNAME:Aure Misjonshus
REFRESH-INTERVAL;VALUE=DURATION:PT6H
X-PUBLISHED-TTL:PT6H    
CALSCALE:GREGORIAN
BEGIN:VEVENT
UID:auremisjonshus.no-474
DTSTAMP:20260424T063408Z
DTSTART:20190203T150000Z
DTEND:20190203T163000Z
URL:https://www.auremisjonshus.no/kalender/2019/02/03/arsmote-norsk-luthersk-misjonssamband/474/
CREATED:20181205T143339Z
LAST-MODIFIED:20190202T215802Z
SUMMARY:Årsmøte Norsk Luthersk Misjonssamband
DESCRIPTION:\n\nhttps://www.auremisjonshus.no/kalender/2019/02/03/arsmote-norsk-luthersk-misjonssamband/474/
END:VEVENT

END:VCALENDAR