BEGIN:VCALENDAR
VERSION:2.0
PRODID:-//mWEB//NONSGML mWEB//NB
URL:https://www.auremisjonshus.no/kalender/ics
X-WR-CALNAME:Aure Misjonshus
REFRESH-INTERVAL;VALUE=DURATION:PT6H
X-PUBLISHED-TTL:PT6H    
CALSCALE:GREGORIAN
BEGIN:VEVENT
UID:auremisjonshus.no-449
DTSTAMP:20260424T081129Z
DTSTART:20190129T163000Z
DTEND:20190129T173000Z
URL:https://www.auremisjonshus.no/kalender/2019/01/29/orneklubben/449/
CREATED:20181205T142449Z
LAST-MODIFIED:20181205T142449Z
SUMMARY:Ørneklubben
DESCRIPTION:For barn mellom 4 og 9 år. Vi møtast på misjonshuset kvar tredje tysdag frå klokka 17.30 - 18.30. Kvar samling blir avslutta med kveldsmat.\n\nhttps://www.auremisjonshus.no/kalender/2019/01/29/orneklubben/449/
END:VEVENT

END:VCALENDAR