BEGIN:VCALENDAR
VERSION:2.0
PRODID:-//mWEB//NONSGML mWEB//NB
URL:https://www.auremisjonshus.no/kalender/ics
X-WR-CALNAME:Aure Misjonshus
REFRESH-INTERVAL;VALUE=DURATION:PT6H
X-PUBLISHED-TTL:PT6H    
CALSCALE:GREGORIAN
BEGIN:VEVENT
UID:auremisjonshus.no-473
DTSTAMP:20260424T083427Z
DTSTART:20190127T150000Z
DTEND:20190127T163000Z
URL:https://www.auremisjonshus.no/kalender/2019/01/27/sondagsmote-indremisjonsforbundet/473/
CREATED:20181205T143259Z
LAST-MODIFIED:20181205T143259Z
SUMMARY:Søndagsmøte Indremisjonsforbundet
DESCRIPTION:\n\nhttps://www.auremisjonshus.no/kalender/2019/01/27/sondagsmote-indremisjonsforbundet/473/
END:VEVENT

END:VCALENDAR